BEGIN:VCALENDAR
VERSION:2.0
PRODID:-//Parkour4Kids - ECPv6.15.20//NONSGML v1.0//EN
CALSCALE:GREGORIAN
METHOD:PUBLISH
X-ORIGINAL-URL:https://parkour4kids.de
X-WR-CALDESC:Veranstaltungen für Parkour4Kids
REFRESH-INTERVAL;VALUE=DURATION:PT1H
X-Robots-Tag:noindex
X-PUBLISHED-TTL:PT1H
BEGIN:VTIMEZONE
TZID:UTC
BEGIN:STANDARD
TZOFFSETFROM:+0000
TZOFFSETTO:+0000
TZNAME:UTC
DTSTART:20240101T000000
END:STANDARD
END:VTIMEZONE
BEGIN:VEVENT
DTSTART;TZID=UTC:20250611T160000
DTEND;TZID=UTC:20250611T170000
DTSTAMP:20260426T033446
CREATED:20240610T113917Z
LAST-MODIFIED:20250701T114845Z
UID:574-1749657600-1749661200@parkour4kids.de
SUMMARY:Kindertraining 4-7 Jahre an der "Schlange"- Treffpunkt: Große Kletterspinne
DESCRIPTION:Treffpunkt ist heute die große Kletterspinne nähe Schlangenbader Straße.
URL:https://parkour4kids.de/event/kindertraining-4-7-jahre-an-der-schlange/
LOCATION:Kletter-Seilpyramide\, Wiesbadener Straße 50\, Berlin\, 14197
ORGANIZER;CN="Rafa":MAILTO:rafa@parkour4kids.de
END:VEVENT
END:VCALENDAR