BEGIN:VCALENDAR
VERSION:2.0
PRODID:-//Parkour4Kids - ECPv6.15.20//NONSGML v1.0//EN
CALSCALE:GREGORIAN
METHOD:PUBLISH
X-ORIGINAL-URL:https://parkour4kids.de
X-WR-CALDESC:Veranstaltungen für Parkour4Kids
REFRESH-INTERVAL;VALUE=DURATION:PT1H
X-Robots-Tag:noindex
X-PUBLISHED-TTL:PT1H
BEGIN:VTIMEZONE
TZID:UTC
BEGIN:STANDARD
TZOFFSETFROM:+0000
TZOFFSETTO:+0000
TZNAME:UTC
DTSTART:20240101T000000
END:STANDARD
END:VTIMEZONE
BEGIN:VEVENT
DTSTART;TZID=UTC:20250709T160000
DTEND;TZID=UTC:20250709T170000
DTSTAMP:20260426T014354
CREATED:20241119T082018Z
LAST-MODIFIED:20250707T143728Z
UID:644-1752076800-1752080400@parkour4kids.de
SUMMARY:Kindertraining 4-7 Jahre an der "Schlange" (Straßenseite KiGa)
DESCRIPTION:Treffpunkt ist heute die kleine Kletterspinne\, auf der Straßenseite gegenüber des REWE Supermarktes.
URL:https://parkour4kids.de/event/kindertraining-4-7-jahre-an-der-schlange-strassenseite-kiga/
LOCATION:Spielplatz am Kindergarten\, Schlangenbader Str. 27\, Berlin\, 14197
ORGANIZER;CN="Rafa":MAILTO:rafa@parkour4kids.de
END:VEVENT
END:VCALENDAR