BEGIN:VCALENDAR
VERSION:2.0
PRODID:-//Parkour4Kids - ECPv6.15.20//NONSGML v1.0//EN
CALSCALE:GREGORIAN
METHOD:PUBLISH
X-ORIGINAL-URL:https://parkour4kids.de
X-WR-CALDESC:Veranstaltungen für Parkour4Kids
REFRESH-INTERVAL;VALUE=DURATION:PT1H
X-Robots-Tag:noindex
X-PUBLISHED-TTL:PT1H
BEGIN:VTIMEZONE
TZID:UTC
BEGIN:STANDARD
TZOFFSETFROM:+0000
TZOFFSETTO:+0000
TZNAME:UTC
DTSTART:20240101T000000
END:STANDARD
END:VTIMEZONE
BEGIN:VEVENT
DTSTART;TZID=UTC:20250717T163000
DTEND;TZID=UTC:20250717T173000
DTSTAMP:20260426T014254
CREATED:20240827T120927Z
LAST-MODIFIED:20250727T074455Z
UID:606-1752769800-1752773400@parkour4kids.de
SUMMARY:Gemischtes Gruppentraining am "Sundi"\, Alter 7-12 Jahre
DESCRIPTION:  \nDas gemischte Gruppentraining richtet sich an die Altersgruppen 7-12 Jahre. \n 
URL:https://parkour4kids.de/event/gemischtes-gruppentraining-am-sundi-alter-7-12-jahre/
LOCATION:Parkour-Spielplatz\, Robert-W.-Kempner-Straße 6\, Berlin\, Berlin\, 14167
ORGANIZER;CN="Rafa":MAILTO:rafa@parkour4kids.de
END:VEVENT
END:VCALENDAR