BEGIN:VCALENDAR
VERSION:2.0
PRODID:-//Parkour4Kids - ECPv6.15.20//NONSGML v1.0//EN
CALSCALE:GREGORIAN
METHOD:PUBLISH
X-ORIGINAL-URL:https://parkour4kids.de
X-WR-CALDESC:Veranstaltungen für Parkour4Kids
REFRESH-INTERVAL;VALUE=DURATION:PT1H
X-Robots-Tag:noindex
X-PUBLISHED-TTL:PT1H
BEGIN:VTIMEZONE
TZID:UTC
BEGIN:STANDARD
TZOFFSETFROM:+0000
TZOFFSETTO:+0000
TZNAME:UTC
DTSTART:20240101T000000
END:STANDARD
END:VTIMEZONE
BEGIN:VEVENT
DTSTART;TZID=UTC:20250724T163000
DTEND;TZID=UTC:20250724T173000
DTSTAMP:20260426T014212
CREATED:20250724T130014Z
LAST-MODIFIED:20250724T130014Z
UID:759-1753374600-1753378200@parkour4kids.de
SUMMARY:Training entfällt!
DESCRIPTION:Das Training fällt heute krankheitsbedingt aus!
URL:https://parkour4kids.de/event/training-entfaellt/
END:VEVENT
END:VCALENDAR