BEGIN:VCALENDAR
VERSION:2.0
PRODID:-//Parkour4Kids - ECPv6.15.20//NONSGML v1.0//EN
CALSCALE:GREGORIAN
METHOD:PUBLISH
X-WR-CALNAME:Parkour4Kids
X-ORIGINAL-URL:https://parkour4kids.de
X-WR-CALDESC:Veranstaltungen für Parkour4Kids
REFRESH-INTERVAL;VALUE=DURATION:PT1H
X-Robots-Tag:noindex
X-PUBLISHED-TTL:PT1H
BEGIN:VTIMEZONE
TZID:Europe/Berlin
BEGIN:DAYLIGHT
TZOFFSETFROM:+0100
TZOFFSETTO:+0200
TZNAME:CEST
DTSTART:20240331T010000
END:DAYLIGHT
BEGIN:STANDARD
TZOFFSETFROM:+0200
TZOFFSETTO:+0100
TZNAME:CET
DTSTART:20241027T010000
END:STANDARD
BEGIN:DAYLIGHT
TZOFFSETFROM:+0100
TZOFFSETTO:+0200
TZNAME:CEST
DTSTART:20250330T010000
END:DAYLIGHT
BEGIN:STANDARD
TZOFFSETFROM:+0200
TZOFFSETTO:+0100
TZNAME:CET
DTSTART:20251026T010000
END:STANDARD
BEGIN:DAYLIGHT
TZOFFSETFROM:+0100
TZOFFSETTO:+0200
TZNAME:CEST
DTSTART:20260329T010000
END:DAYLIGHT
BEGIN:STANDARD
TZOFFSETFROM:+0200
TZOFFSETTO:+0100
TZNAME:CET
DTSTART:20261025T010000
END:STANDARD
END:VTIMEZONE
BEGIN:VEVENT
DTSTART;TZID=Europe/Berlin:20250730T160000
DTEND;TZID=Europe/Berlin:20250730T170000
DTSTAMP:20260426T000443
CREATED:20231018T104053Z
LAST-MODIFIED:20251027T103740Z
UID:453-1753891200-1753894800@parkour4kids.de
SUMMARY:Gemischtes Gruppentraining am "Sundi"\, Altersgruppe 4-6 Jahre
DESCRIPTION:Das gemischte Gruppentraining richtet sich an die Altersgruppen 4-6 Jahre. \nIn dieser Gruppe wird das altersübergreifende Lernen  gefördert. Wir trainieren gemeinsam Parkour und achten unsere eigenen körperlichen\, sowie mentalen Grenzen\, als auch die der Gruppe. Die Jüngeren können spielerisch die Bewegungsmuster der Älteren kopieren und diese wiederum mit kreativen Bewegungsideen fördern. Austausch und Teamwork steht im Vordergrund.
URL:https://parkour4kids.de/event/gemischtes-gruppentraining/
LOCATION:Parkour-Spielplatz\, Robert-W.-Kempner-Straße 6\, Berlin\, Berlin\, 14167
ORGANIZER;CN="Rafa":MAILTO:rafa@parkour4kids.de
END:VEVENT
END:VCALENDAR