BEGIN:VCALENDAR
VERSION:2.0
PRODID:-//Parkour4Kids - ECPv6.15.20//NONSGML v1.0//EN
CALSCALE:GREGORIAN
METHOD:PUBLISH
X-WR-CALNAME:Parkour4Kids
X-ORIGINAL-URL:https://parkour4kids.de
X-WR-CALDESC:Veranstaltungen für Parkour4Kids
REFRESH-INTERVAL;VALUE=DURATION:PT1H
X-Robots-Tag:noindex
X-PUBLISHED-TTL:PT1H
BEGIN:VTIMEZONE
TZID:UTC
BEGIN:STANDARD
TZOFFSETFROM:+0000
TZOFFSETTO:+0000
TZNAME:UTC
DTSTART:20240101T000000
END:STANDARD
END:VTIMEZONE
BEGIN:VEVENT
DTSTART;VALUE=DATE:20250915
DTEND;VALUE=DATE:20251001
DTSTAMP:20260425T224500
CREATED:20241209T201512Z
LAST-MODIFIED:20250915T181425Z
UID:658-1757894400-1759276799@parkour4kids.de
SUMMARY:Kein Training!
DESCRIPTION:Heute findet kein Training statt.
URL:https://parkour4kids.de/event/kein-training-2/
END:VEVENT
END:VCALENDAR