BEGIN:VCALENDAR
VERSION:2.0
PRODID:-//Parkour4Kids - ECPv6.15.20//NONSGML v1.0//EN
CALSCALE:GREGORIAN
METHOD:PUBLISH
X-WR-CALNAME:Parkour4Kids
X-ORIGINAL-URL:https://parkour4kids.de
X-WR-CALDESC:Veranstaltungen für Parkour4Kids
REFRESH-INTERVAL;VALUE=DURATION:PT1H
X-Robots-Tag:noindex
X-PUBLISHED-TTL:PT1H
BEGIN:VTIMEZONE
TZID:UTC
BEGIN:STANDARD
TZOFFSETFROM:+0000
TZOFFSETTO:+0000
TZNAME:UTC
DTSTART:20250101T000000
END:STANDARD
END:VTIMEZONE
BEGIN:VEVENT
DTSTART;TZID=UTC:20260421T150000
DTEND;TZID=UTC:20260421T160000
DTSTAMP:20260421T101228
CREATED:20250908T125449Z
LAST-MODIFIED:20260420T120808Z
UID:778-1776783600-1776787200@parkour4kids.de
SUMMARY:Dienstag 15.00-16.00 Uhr: Gruppentraining 4-6 Jahre am "Sundi"
DESCRIPTION:Das Training richtet sich primär an Kindergarten- und Vorschulkinder. Wir erkunden spielerisch und sicher unsere Umgebung. Dies fördert die motorische und geistige Entwicklung ihres Kindes und dessen soziale Kompetenz.
URL:https://parkour4kids.de/event/dienstag-15-00-16-00-uhr-gruppentraining-4-6-jahre-am-sundi/
LOCATION:Parkour-Spielplatz\, Robert-W.-Kempner-Straße 6\, Berlin\, Berlin\, 14167
ORGANIZER;CN="Nora":MAILTO:nora@parkour4kids.de
END:VEVENT
BEGIN:VEVENT
DTSTART;TZID=UTC:20260421T161500
DTEND;TZID=UTC:20260421T171500
DTSTAMP:20260421T101228
CREATED:20250908T130214Z
LAST-MODIFIED:20260420T120826Z
UID:785-1776788100-1776791700@parkour4kids.de
SUMMARY:Dienstag 16.15-17.15 Uhr: Gruppentraining 7-9 Jahre am „Sundi“
DESCRIPTION:Das Training richtet sich primär an Grundschulkinder. Wir erkunden spielerisch und sicher unsere Umgebung. Dies fördert die motorische und geistige Entwicklung ihres Kindes und dessen soziale Kompetenz.
URL:https://parkour4kids.de/event/dienstag-16-15-17-1-uhr-gruppentraining-7-9-jahre-am-sundi-2/
LOCATION:Parkour-Spielplatz\, Robert-W.-Kempner-Straße 6\, Berlin\, Berlin\, 14167
ORGANIZER;CN="Nora":MAILTO:nora@parkour4kids.de
END:VEVENT
END:VCALENDAR