BEGIN:VCALENDAR
VERSION:2.0
PRODID:-//Parkour4Kids - ECPv6.15.20//NONSGML v1.0//EN
CALSCALE:GREGORIAN
METHOD:PUBLISH
X-WR-CALNAME:Parkour4Kids
X-ORIGINAL-URL:https://parkour4kids.de
X-WR-CALDESC:Veranstaltungen für Parkour4Kids
REFRESH-INTERVAL;VALUE=DURATION:PT1H
X-Robots-Tag:noindex
X-PUBLISHED-TTL:PT1H
BEGIN:VTIMEZONE
TZID:UTC
BEGIN:STANDARD
TZOFFSETFROM:+0000
TZOFFSETTO:+0000
TZNAME:UTC
DTSTART:20240101T000000
END:STANDARD
END:VTIMEZONE
BEGIN:VEVENT
DTSTART;TZID=UTC:20251023T150000
DTEND;TZID=UTC:20251023T160000
DTSTAMP:20260425T193456
CREATED:20250909T104647Z
LAST-MODIFIED:20251020T083554Z
UID:800-1761231600-1761235200@parkour4kids.de
SUMMARY:Donnerstag 15.00-16.00 Uhr: Gruppentraining 4-6 Jahre am „Sundi“
DESCRIPTION:Das Training richtet sich primär an Kindergarten- und Vorschulkinder. Wir erkunden spielerisch und sicher unsere Umgebung. Dies fördert die motorische und geistige Entwicklung ihres Kindes und dessen soziale Kompetenz.
URL:https://parkour4kids.de/event/donnerstag-15-00-16-00-uhr-gruppentraining-4-6-jahre-am-sundi/
LOCATION:Parkour-Spielplatz\, Robert-W.-Kempner-Straße 6\, Berlin\, Berlin\, 14167
ORGANIZER;CN="Rafa":MAILTO:rafa@parkour4kids.de
END:VEVENT
END:VCALENDAR